BEGIN:VCALENDAR
VERSION:2.0
CALSCALE:GREGORIAN
METHOD:PUBLISH
X-WR-TIMEZONE:Australia/Sydney
BEGIN:VTIMEZONE
TZID:Australia/Sydney
BEGIN:STANDARD
TZNAME:AEST
DTSTART:19700101T000000
TZOFFSETFROM:+1100
TZOFFSETTO:+1000
END:STANDARD
END:VTIMEZONE
BEGIN:VEVENT
DTSTART;TZID=Australia/Sydney:20190219T170000
DTEND;TZID=Australia/Sydney:20190219T180000
DTSTAMP:20260425T042725
UID:175
SUMMARY:Year 6 Parent Information Afternoon
DESCRIPTION:




We would like to invite you to attend an information Afternoon in the Library on Tuesday, February 19 commencing at 5.00pm.
&amp;nbsp;Some of the things we will be discussing:

Homework Expectations/ Homework Club
Behaviour Policy
Connect
Dress Code
Year 6 Camp

&amp;nbsp;
For planning purposes, could you please fill out the attendance slip on the attached letter and return it to your child&amp;rsquo;s teacher.
We look forward to seeing you next Tuesday.


SEQUENCE:0
STATUS:CONFIRMED
TRANSP:OPAQUE
END:VEVENT
END:VCALENDAR