BEGIN:VCALENDAR
VERSION:2.0
CALSCALE:GREGORIAN
METHOD:PUBLISH
X-WR-TIMEZONE:Australia/Sydney
BEGIN:VTIMEZONE
TZID:Australia/Sydney
BEGIN:STANDARD
TZNAME:AEST
END:STANDARD
END:VTIMEZONE
BEGIN:VEVENT
DTSTART;TZID=Australia/Sydney:20230503T080000
DTEND;TZID=Australia/Sydney:20230503T083000
RRULE:FREQ=WEEKLY;UNTIL=20230623T083000;BYDAY=WE,FR
DTSTAMP:20260423T085919
UID:535
SUMMARY:Runners Club
DESCRIPTION:




School Runner Club provided by Mr Brown. Every Wednesday and Friday morning 8.00am - 8.30am Students must have written permission from parents. Please see Mr Brown for a permission form.


SEQUENCE:0
STATUS:CONFIRMED
TRANSP:OPAQUE
END:VEVENT
END:VCALENDAR