BEGIN:VCALENDAR
VERSION:2.0
CALSCALE:GREGORIAN
METHOD:PUBLISH
X-WR-TIMEZONE:Australia/Sydney
BEGIN:VTIMEZONE
TZID:Australia/Sydney
BEGIN:STANDARD
TZNAME:AEST
DTSTART:19700101T000000
TZOFFSETFROM:+1100
TZOFFSETTO:+1000
END:STANDARD
END:VTIMEZONE
BEGIN:VEVENT
DTSTART;TZID=Australia/Sydney:20260508
DTEND;TZID=Australia/Sydney:20260508
DTSTAMP:20260425T013602
UID:782
SUMMARY:P&amp;C Mother&#039;s &amp; Special Person&#039;s Stall
DESCRIPTION:




https://www.safetybayps.wa.edu.au/source/SBPS_Mothers_Stall_Final-%20posterpdf%20(1).pdf


SEQUENCE:0
STATUS:CONFIRMED
TRANSP:OPAQUE
END:VEVENT
END:VCALENDAR